BEGIN:VCALENDAR
VERSION:2.0
PRODID:-//Innovate Carolina Junction - ECPv6.15.17.1//NONSGML v1.0//EN
CALSCALE:GREGORIAN
METHOD:PUBLISH
X-WR-CALNAME:Innovate Carolina Junction
X-ORIGINAL-URL:https://junction.unc.edu
X-WR-CALDESC:Events for Innovate Carolina Junction
REFRESH-INTERVAL;VALUE=DURATION:PT1H
X-Robots-Tag:noindex
X-PUBLISHED-TTL:PT1H
BEGIN:VTIMEZONE
TZID:America/New_York
BEGIN:DAYLIGHT
TZOFFSETFROM:-0500
TZOFFSETTO:-0400
TZNAME:EDT
DTSTART:20230312T070000
END:DAYLIGHT
BEGIN:STANDARD
TZOFFSETFROM:-0400
TZOFFSETTO:-0500
TZNAME:EST
DTSTART:20231105T060000
END:STANDARD
BEGIN:DAYLIGHT
TZOFFSETFROM:-0500
TZOFFSETTO:-0400
TZNAME:EDT
DTSTART:20240310T070000
END:DAYLIGHT
BEGIN:STANDARD
TZOFFSETFROM:-0400
TZOFFSETTO:-0500
TZNAME:EST
DTSTART:20241103T060000
END:STANDARD
BEGIN:DAYLIGHT
TZOFFSETFROM:-0500
TZOFFSETTO:-0400
TZNAME:EDT
DTSTART:20250309T070000
END:DAYLIGHT
BEGIN:STANDARD
TZOFFSETFROM:-0400
TZOFFSETTO:-0500
TZNAME:EST
DTSTART:20251102T060000
END:STANDARD
END:VTIMEZONE
BEGIN:VEVENT
DTSTART;TZID=America/New_York:20241108T100000
DTEND;TZID=America/New_York:20241108T150000
DTSTAMP:20260420T063720
CREATED:20241028T134237Z
LAST-MODIFIED:20241028T134237Z
UID:2272-1731060000-1731078000@junction.unc.edu
SUMMARY:Meantime Cafe Grand Opening Celabration!
DESCRIPTION:10 AM – 3 PM: Open to the public. \n\n\n\nSpecial merch gifted to the first 100 people in line at 10AM. First 50 in line entered to win free Meantime drinks for a year\n12-2:  live music in the café\nInteractive activities and photo walls\nfree pastry samples\nBOGO all drinks
URL:https://junction.unc.edu/event/meantime-cafe-grand-opening-celabration/
LOCATION:Innovate Carolina Junction\, 136 E. Rosemary St.\, Chapel Hill\, NC\, 27516
ATTACH;FMTTYPE=image/jpeg:https://junction.unc.edu/wp-content/uploads/2024/10/IG-post-invitation-1.jpeg
ORGANIZER;CN="Innovate Carolina Junction":MAILTO:junction@innovate.unc.edu
END:VEVENT
END:VCALENDAR