BEGIN:VCALENDAR
VERSION:2.0
PRODID:-//Innovate Carolina Junction - ECPv6.15.17.1//NONSGML v1.0//EN
CALSCALE:GREGORIAN
METHOD:PUBLISH
X-WR-CALNAME:Innovate Carolina Junction
X-ORIGINAL-URL:https://junction.unc.edu
X-WR-CALDESC:Events for Innovate Carolina Junction
REFRESH-INTERVAL;VALUE=DURATION:PT1H
X-Robots-Tag:noindex
X-PUBLISHED-TTL:PT1H
BEGIN:VTIMEZONE
TZID:America/New_York
BEGIN:DAYLIGHT
TZOFFSETFROM:-0500
TZOFFSETTO:-0400
TZNAME:EDT
DTSTART:20250309T070000
END:DAYLIGHT
BEGIN:STANDARD
TZOFFSETFROM:-0400
TZOFFSETTO:-0500
TZNAME:EST
DTSTART:20251102T060000
END:STANDARD
BEGIN:DAYLIGHT
TZOFFSETFROM:-0500
TZOFFSETTO:-0400
TZNAME:EDT
DTSTART:20260308T070000
END:DAYLIGHT
BEGIN:STANDARD
TZOFFSETFROM:-0400
TZOFFSETTO:-0500
TZNAME:EST
DTSTART:20261101T060000
END:STANDARD
BEGIN:DAYLIGHT
TZOFFSETFROM:-0500
TZOFFSETTO:-0400
TZNAME:EDT
DTSTART:20270314T070000
END:DAYLIGHT
BEGIN:STANDARD
TZOFFSETFROM:-0400
TZOFFSETTO:-0500
TZNAME:EST
DTSTART:20271107T060000
END:STANDARD
END:VTIMEZONE
BEGIN:VEVENT
DTSTART;TZID=America/New_York:20260529T083000
DTEND;TZID=America/New_York:20260529T100000
DTSTAMP:20260424T144331
CREATED:20260424T150256Z
LAST-MODIFIED:20260424T150256Z
UID:2782-1780043400-1780048800@junction.unc.edu
SUMMARY:May Business Before Hours @ The Junction
DESCRIPTION:Join us for connection\, community and coffee at our Business Before Hours @ The Junction. Mingle with fellow Chamber members\, enjoy complimentary coffee\, and take advantage of this relaxed setting to catch up with old friends and make new professional connections. \nWhether you’re a longtime member or new to the network\, Business Before Hours is a great way to grow your visibility and strengthen relationships within the local business community in Downtown Chapel Hill. \nWe look forward to seeing you there!
URL:https://junction.unc.edu/event/may-business-before-hours-the-junction/
LOCATION:Innovate Carolina Junction\, 136 E. Rosemary St.\, Chapel Hill\, NC\, 27516
ORGANIZER;CN="The Chamber for Greater Chapel Hill-Carrboro":MAILTO:acook@carolinachamber.org
END:VEVENT
END:VCALENDAR