BEGIN:VCALENDAR
VERSION:2.0
PRODID:-//Innovate Carolina Junction - ECPv6.15.17.1//NONSGML v1.0//EN
CALSCALE:GREGORIAN
METHOD:PUBLISH
X-WR-CALNAME:Innovate Carolina Junction
X-ORIGINAL-URL:https://junction.unc.edu
X-WR-CALDESC:Events for Innovate Carolina Junction
REFRESH-INTERVAL;VALUE=DURATION:PT1H
X-Robots-Tag:noindex
X-PUBLISHED-TTL:PT1H
BEGIN:VTIMEZONE
TZID:America/New_York
BEGIN:DAYLIGHT
TZOFFSETFROM:-0500
TZOFFSETTO:-0400
TZNAME:EDT
DTSTART:20240310T070000
END:DAYLIGHT
BEGIN:STANDARD
TZOFFSETFROM:-0400
TZOFFSETTO:-0500
TZNAME:EST
DTSTART:20241103T060000
END:STANDARD
BEGIN:DAYLIGHT
TZOFFSETFROM:-0500
TZOFFSETTO:-0400
TZNAME:EDT
DTSTART:20250309T070000
END:DAYLIGHT
BEGIN:STANDARD
TZOFFSETFROM:-0400
TZOFFSETTO:-0500
TZNAME:EST
DTSTART:20251102T060000
END:STANDARD
BEGIN:DAYLIGHT
TZOFFSETFROM:-0500
TZOFFSETTO:-0400
TZNAME:EDT
DTSTART:20260308T070000
END:DAYLIGHT
BEGIN:STANDARD
TZOFFSETFROM:-0400
TZOFFSETTO:-0500
TZNAME:EST
DTSTART:20261101T060000
END:STANDARD
END:VTIMEZONE
BEGIN:VEVENT
DTSTART;TZID=America/New_York:20250206T110000
DTEND;TZID=America/New_York:20250206T120000
DTSTAMP:20260422T162112
CREATED:20250122T174626Z
LAST-MODIFIED:20250122T183840Z
UID:2345-1738839600-1738843200@junction.unc.edu
SUMMARY: Hire A Heel Strategy Session: Tailored Employer Strategies by Industry
DESCRIPTION:Session Marketing Verbiage: Join us for a virtual workshop designed to help employers recruit top talent from UNC Chapel Hill. Led by our Employer Engagement team\, this session offers industry-specific strategies\, best practices for campus engagement\, and tips on maximizing university resources. Perfect for employers seeking to strengthen partnerships and attract top Carolina students in their field! \nRegistration Link: https://unc.zoom.us/meeting/register/c5oT6ePORMmqhD8gjBmYog
URL:https://junction.unc.edu/event/hire-a-heel-strategy-session-tailored-employer-strategies-by-industry/
LOCATION:Virtual
ATTACH;FMTTYPE=image/png:https://junction.unc.edu/wp-content/uploads/2025/01/image007.png
END:VEVENT
END:VCALENDAR