BEGIN:VCALENDAR
VERSION:2.0
PRODID:-//Innovate Carolina Junction - ECPv6.15.17.1//NONSGML v1.0//EN
CALSCALE:GREGORIAN
METHOD:PUBLISH
X-WR-CALNAME:Innovate Carolina Junction
X-ORIGINAL-URL:https://junction.unc.edu
X-WR-CALDESC:Events for Innovate Carolina Junction
REFRESH-INTERVAL;VALUE=DURATION:PT1H
X-Robots-Tag:noindex
X-PUBLISHED-TTL:PT1H
BEGIN:VTIMEZONE
TZID:America/New_York
BEGIN:DAYLIGHT
TZOFFSETFROM:-0500
TZOFFSETTO:-0400
TZNAME:EDT
DTSTART:20220313T070000
END:DAYLIGHT
BEGIN:STANDARD
TZOFFSETFROM:-0400
TZOFFSETTO:-0500
TZNAME:EST
DTSTART:20221106T060000
END:STANDARD
BEGIN:DAYLIGHT
TZOFFSETFROM:-0500
TZOFFSETTO:-0400
TZNAME:EDT
DTSTART:20230312T070000
END:DAYLIGHT
BEGIN:STANDARD
TZOFFSETFROM:-0400
TZOFFSETTO:-0500
TZNAME:EST
DTSTART:20231105T060000
END:STANDARD
BEGIN:DAYLIGHT
TZOFFSETFROM:-0500
TZOFFSETTO:-0400
TZNAME:EDT
DTSTART:20240310T070000
END:DAYLIGHT
BEGIN:STANDARD
TZOFFSETFROM:-0400
TZOFFSETTO:-0500
TZNAME:EST
DTSTART:20241103T060000
END:STANDARD
END:VTIMEZONE
BEGIN:VEVENT
DTSTART;TZID=America/New_York:20231013T120000
DTEND;TZID=America/New_York:20231013T140000
DTSTAMP:20260419T132219
CREATED:20230818T201843Z
LAST-MODIFIED:20231005T165830Z
UID:1497-1697198400-1697205600@junction.unc.edu
SUMMARY:Designing Modern Workplaces through Hybrid Collaborations
DESCRIPTION:Join Innovate Carolina for concepts for rethinking office space that’s designed for modern work\, while balancing individual\, leader and organizational needs. Featured Presenters and Facilitators: Steelcase and Innovate Carolina’s Office of Design and Innovation for the Public Good.
URL:https://junction.unc.edu/event/designing-modern-workplaces-through-hybrid-collaborations/
LOCATION:Innovate Carolina Junction\, 136 E. Rosemary St.\, Chapel Hill\, NC\, 27516
END:VEVENT
END:VCALENDAR